BEGIN:VCALENDAR
VERSION:2.0
PRODID:-//wp-events-plugin.com//7.2.3.1//EN
BEGIN:VEVENT
UID:2@lapalestra.be
DTSTART:20260626T170000Z
DTEND:20260628T133000Z
DTSTAMP:20260421T100153Z
URL:https://www.lapalestra.be/events/anniversaire-des-5-ans-des-tchounes/
SUMMARY:Anniversaire des 5 ans des Tchounes
DESCRIPTION:Nous fêterons les 5 ans des Tchounes\, association qui propose
  des activités physiques et philosophiques au grand air pour petit·e·s 
 et grand·e·s\, en organisant :\n\n- Un "bal des familles" (bal folk\, 18
 h-20h) et un micro ouvert le vendredi 26 juin 2026\, de 17h à 23h \;\n\n-
  Une balade philosophique dans le quartier le samedi 27 juin 2026 de 14h 
 à 18h (dernier départ à 17h\, boucle de ± 5km) \;\n\n- La Journée Int
 ercentres de Sport'nat Belgique (hébertisme)\, soit 3 séances d'héberti
 sme en parallèle\, en trois groupes : enfants\, adultes et séniors\, le 
 dimanche 28 juin 2026 de 10h à 12h\, et un dîner convivial toustes ensem
 ble jusque 13h30.\n\nBloquez ces moments pour prendre part aux activités\
 , toutes gratuites. Boissons et petite restauration sur place (2€ softs\
 , 4€ alcools). La ballade ne sera pas accessible aux poussettes/PMR.\n\n
 Vivement faire la fête avec vous !
ATTACH;FMTTYPE=image/jpeg:https://www.lapalestra.be/wp-content/uploads/202
 6/04/Profil5ans.png
LOCATION:GymNat\, Rue Xhovémont\, 74\, Liège\, Belgique\, 4000\, Liège\,
  Belgique
X-APPLE-STRUCTURED-LOCATION;VALUE=URI;X-ADDRESS=Rue Xhovémont\, 74\, Lièg
 e\, Belgique\, 4000\, Liège\, Belgique;X-APPLE-RADIUS=100;X-TITLE=GymNat:
 geo:0,0
END:VEVENT
END:VCALENDAR